Package: densvis Version: 1.16.0 Command: F:\biocbuild\bbs-3.20-bioc\R\bin\R.exe CMD check --no-multiarch --install=check:densvis.install-out.txt --library=F:\biocbuild\bbs-3.20-bioc\R\library --no-vignettes --timings densvis_1.16.0.tar.gz StartedAt: 2025-04-01 00:50:32 -0400 (Tue, 01 Apr 2025) EndedAt: 2025-04-01 00:54:50 -0400 (Tue, 01 Apr 2025) EllapsedTime: 258.3 seconds RetCode: 0 Status: OK CheckDir: densvis.Rcheck Warnings: 0