Package: densvis Version: 1.16.0 Command: /home/biocbuild/bbs-3.20-bioc/R/bin/R CMD check --install=check:densvis.install-out.txt --library=/home/biocbuild/bbs-3.20-bioc/R/site-library --timings densvis_1.16.0.tar.gz StartedAt: 2025-03-31 21:31:32 -0400 (Mon, 31 Mar 2025) EndedAt: 2025-03-31 21:34:10 -0400 (Mon, 31 Mar 2025) EllapsedTime: 158.2 seconds RetCode: 0 Status: OK CheckDir: densvis.Rcheck Warnings: 0