Package: demuxmix Version: 1.8.0 Command: /Library/Frameworks/R.framework/Resources/bin/R CMD INSTALL demuxmix StartedAt: 2025-02-03 15:34:34 -0500 (Mon, 03 Feb 2025) EndedAt: 2025-02-03 15:34:41 -0500 (Mon, 03 Feb 2025) EllapsedTime: 7.4 seconds RetCode: 0 Status: OK