Package: demuxSNP Version: 1.4.0 Command: /home/biocbuild/bbs-3.20-bioc/R/bin/R CMD check --install=check:demuxSNP.install-out.txt --library=/home/biocbuild/bbs-3.20-bioc/R/site-library --timings demuxSNP_1.4.0.tar.gz StartedAt: 2025-01-30 21:34:04 -0500 (Thu, 30 Jan 2025) EndedAt: 2025-01-30 21:43:35 -0500 (Thu, 30 Jan 2025) EllapsedTime: 570.6 seconds RetCode: 0 Status: OK CheckDir: demuxSNP.Rcheck Warnings: 0