Package: demuxSNP Version: 1.4.0 Command: /home/biocbuild/bbs-3.20-bioc/R/bin/R CMD build --keep-empty-dirs --no-resave-data --md5 demuxSNP StartedAt: 2025-03-31 16:58:54 -0400 (Mon, 31 Mar 2025) EndedAt: 2025-03-31 17:01:03 -0400 (Mon, 31 Mar 2025) EllapsedTime: 129.1 seconds RetCode: 0 Status: OK PackageFile: demuxSNP_1.4.0.tar.gz PackageFileSize: 1.969 MiB