Package: demuxSNP Version: 1.4.0 Command: /Library/Frameworks/R.framework/Resources/bin/R CMD build --keep-empty-dirs --no-resave-data demuxSNP StartedAt: 2025-03-31 18:11:59 -0400 (Mon, 31 Mar 2025) EndedAt: 2025-03-31 18:16:57 -0400 (Mon, 31 Mar 2025) EllapsedTime: 297.7 seconds RetCode: 0 Status: OK PackageFile: demuxSNP_1.4.0.tar.gz PackageFileSize: 1.977 MiB