Package: deltaCaptureC Version: 1.20.0 Command: /home/biocbuild/R/R/bin/R CMD INSTALL deltaCaptureC StartedAt: 2025-01-27 21:19:50 -0000 (Mon, 27 Jan 2025) EndedAt: 2025-01-27 21:20:29 -0000 (Mon, 27 Jan 2025) EllapsedTime: 39.0 seconds RetCode: 0 Status: OK