Package: deltaCaptureC Version: 1.20.0 Command: /home/biocbuild/R/R/bin/R CMD build --keep-empty-dirs --no-resave-data deltaCaptureC StartedAt: 2025-01-27 23:48:36 -0000 (Mon, 27 Jan 2025) EndedAt: 2025-01-27 23:51:19 -0000 (Mon, 27 Jan 2025) EllapsedTime: 163.1 seconds RetCode: 0 Status: OK PackageFile: deltaCaptureC_1.20.0.tar.gz PackageFileSize: 330.8 KiB