Package: deltaCaptureC Version: 1.20.0 Command: chmod a+r deltaCaptureC -R && F:\biocbuild\bbs-3.20-bioc\R\bin\R.exe CMD build --keep-empty-dirs --no-resave-data deltaCaptureC StartedAt: 2025-03-31 18:25:25 -0400 (Mon, 31 Mar 2025) EndedAt: 2025-03-31 18:28:07 -0400 (Mon, 31 Mar 2025) EllapsedTime: 162.1 seconds RetCode: 0 Status: OK PackageFile: deltaCaptureC_1.20.0.tar.gz PackageFileSize: 326.6 KiB