Package: deltaCaptureC Version: 1.20.0 Command: /home/biocbuild/bbs-3.20-bioc/R/bin/R CMD build --keep-empty-dirs --no-resave-data --md5 deltaCaptureC StartedAt: 2025-01-27 17:54:17 -0500 (Mon, 27 Jan 2025) EndedAt: 2025-01-27 17:56:15 -0500 (Mon, 27 Jan 2025) EllapsedTime: 118.1 seconds RetCode: 0 Status: OK PackageFile: deltaCaptureC_1.20.0.tar.gz PackageFileSize: 358.3 KiB