Package: deltaCaptureC Version: 1.20.0 Command: /Library/Frameworks/R.framework/Resources/bin/R CMD INSTALL deltaCaptureC StartedAt: 2025-01-27 15:34:19 -0500 (Mon, 27 Jan 2025) EndedAt: 2025-01-27 15:35:29 -0500 (Mon, 27 Jan 2025) EllapsedTime: 69.6 seconds RetCode: 0 Status: OK