Package: deltaCaptureC Version: 1.20.0 Command: /Library/Frameworks/R.framework/Resources/bin/R CMD INSTALL deltaCaptureC StartedAt: 2025-01-27 16:01:51 -0500 (Mon, 27 Jan 2025) EndedAt: 2025-01-27 16:02:29 -0500 (Mon, 27 Jan 2025) EllapsedTime: 38.2 seconds RetCode: 0 Status: OK