Package: deepSNV Version: 1.52.0 Command: F:\biocbuild\bbs-3.20-bioc\R\bin\R.exe CMD INSTALL deepSNV StartedAt: 2025-03-31 16:15:40 -0400 (Mon, 31 Mar 2025) EndedAt: 2025-03-31 16:17:01 -0400 (Mon, 31 Mar 2025) EllapsedTime: 81.1 seconds RetCode: 0 Status: OK