Package: deepSNV Version: 1.52.0 Command: chmod a+r deepSNV -R && F:\biocbuild\bbs-3.20-bioc\R\bin\R.exe CMD build --keep-empty-dirs --no-resave-data deepSNV StartedAt: 2025-01-30 18:19:21 -0500 (Thu, 30 Jan 2025) EndedAt: 2025-01-30 18:21:26 -0500 (Thu, 30 Jan 2025) EllapsedTime: 124.4 seconds RetCode: 0 Status: OK PackageFile: deepSNV_1.52.0.tar.gz PackageFileSize: 2.322 MiB