Package: deepSNV Version: 1.52.0 Command: /Library/Frameworks/R.framework/Resources/bin/R CMD INSTALL deepSNV StartedAt: 2025-01-30 15:41:39 -0500 (Thu, 30 Jan 2025) EndedAt: 2025-01-30 15:43:14 -0500 (Thu, 30 Jan 2025) EllapsedTime: 94.9 seconds RetCode: 0 Status: OK