Package: decoupleR Version: 2.12.0 Command: /Library/Frameworks/R.framework/Resources/bin/R CMD INSTALL decoupleR StartedAt: 2025-02-10 15:32:18 -0500 (Mon, 10 Feb 2025) EndedAt: 2025-02-10 15:32:36 -0500 (Mon, 10 Feb 2025) EllapsedTime: 18.1 seconds RetCode: 0 Status: OK