Package: decoupleR Version: 2.12.0 Command: /Library/Frameworks/R.framework/Resources/bin/R CMD check --install=check:decoupleR.install-out.txt --library=/Library/Frameworks/R.framework/Resources/library --no-vignettes --timings decoupleR_2.12.0.tar.gz StartedAt: 2025-02-11 02:14:19 -0500 (Tue, 11 Feb 2025) EndedAt: 2025-02-11 02:26:55 -0500 (Tue, 11 Feb 2025) EllapsedTime: 755.4 seconds RetCode: 0 Status: WARNINGS CheckDir: decoupleR.Rcheck Warnings: 1