Package: decoupleR Version: 2.12.0 Command: /Library/Frameworks/R.framework/Resources/bin/R CMD build --keep-empty-dirs --no-resave-data decoupleR StartedAt: 2025-02-10 18:16:12 -0500 (Mon, 10 Feb 2025) EndedAt: 2025-02-10 18:20:10 -0500 (Mon, 10 Feb 2025) EllapsedTime: 238.4 seconds RetCode: 0 Status: OK PackageFile: decoupleR_2.12.0.tar.gz PackageFileSize: 5.015 MiB