Package: decoupleR Version: 2.12.0 Command: rm -rf decoupleR.buildbin-libdir && mkdir decoupleR.buildbin-libdir && /Users/biocbuild/BBS/utils/build-universal.sh decoupleR_2.12.0.tar.gz /Library/Frameworks/R.framework/Resources/bin/R decoupleR.buildbin-libdir StartedAt: 2025-02-11 13:02:05 -0500 (Tue, 11 Feb 2025) EndedAt: 2025-02-11 13:02:34 -0500 (Tue, 11 Feb 2025) EllapsedTime: 28.9 seconds RetCode: 0 Status: OK PackageFile: decoupleR_2.12.0.tgz PackageFileSize: 5.144 MiB