Package: deconvR Version: 1.12.0 Command: /home/biocbuild/R/R/bin/R CMD INSTALL deconvR StartedAt: 2025-01-27 22:00:22 -0000 (Mon, 27 Jan 2025) EndedAt: 2025-01-27 22:01:23 -0000 (Mon, 27 Jan 2025) EllapsedTime: 61.7 seconds RetCode: 0 Status: OK