Package: deconvR Version: 1.12.0 Command: F:\biocbuild\bbs-3.20-bioc\R\bin\R.exe CMD INSTALL deconvR StartedAt: 2025-03-31 17:01:12 -0400 (Mon, 31 Mar 2025) EndedAt: 2025-03-31 17:02:10 -0400 (Mon, 31 Mar 2025) EllapsedTime: 58.4 seconds RetCode: 0 Status: OK