Package: deconvR Version: 1.12.0 Command: /Library/Frameworks/R.framework/Resources/bin/R CMD check --install=check:deconvR.install-out.txt --library=/Library/Frameworks/R.framework/Resources/library --no-vignettes --timings deconvR_1.12.0.tar.gz StartedAt: 2025-02-04 02:24:05 -0500 (Tue, 04 Feb 2025) EndedAt: 2025-02-04 02:56:05 -0500 (Tue, 04 Feb 2025) EllapsedTime: 1919.5 seconds RetCode: 0 Status: OK CheckDir: deconvR.Rcheck Warnings: 0