Package: deconvR Version: 1.12.0 Command: /Library/Frameworks/R.framework/Resources/bin/R CMD build --keep-empty-dirs --no-resave-data deconvR StartedAt: 2025-02-03 18:21:10 -0500 (Mon, 03 Feb 2025) EndedAt: 2025-02-03 18:26:13 -0500 (Mon, 03 Feb 2025) EllapsedTime: 303.1 seconds RetCode: 0 Status: OK PackageFile: deconvR_1.12.0.tar.gz PackageFileSize: 3.789 MiB