Package: decontam Version: 1.26.0 Command: F:\biocbuild\bbs-3.20-bioc\R\bin\R.exe CMD INSTALL decontam StartedAt: 2025-01-27 15:38:00 -0500 (Mon, 27 Jan 2025) EndedAt: 2025-01-27 15:38:11 -0500 (Mon, 27 Jan 2025) EllapsedTime: 11.0 seconds RetCode: 0 Status: OK