Package: decontam Version: 1.26.0 Command: /Library/Frameworks/R.framework/Resources/bin/R CMD INSTALL decontam StartedAt: 2025-03-31 15:11:49 -0400 (Mon, 31 Mar 2025) EndedAt: 2025-03-31 15:11:59 -0400 (Mon, 31 Mar 2025) EllapsedTime: 9.6 seconds RetCode: 0 Status: OK