Package: decontam Version: 1.26.0 Command: /Library/Frameworks/R.framework/Resources/bin/R CMD check --install=check:decontam.install-out.txt --library=/Library/Frameworks/R.framework/Resources/library --no-vignettes --timings decontam_1.26.0.tar.gz StartedAt: 2025-01-28 02:34:28 -0500 (Tue, 28 Jan 2025) EndedAt: 2025-01-28 02:36:26 -0500 (Tue, 28 Jan 2025) EllapsedTime: 117.9 seconds RetCode: 0 Status: OK CheckDir: decontam.Rcheck Warnings: 0