Package: decontam Version: 1.26.0 Command: rm -rf decontam.buildbin-libdir && mkdir decontam.buildbin-libdir && /Users/biocbuild/BBS/utils/build-universal.sh decontam_1.26.0.tar.gz /Library/Frameworks/R.framework/Resources/bin/R decontam.buildbin-libdir StartedAt: 2025-02-04 12:47:32 -0500 (Tue, 04 Feb 2025) EndedAt: 2025-02-04 12:47:48 -0500 (Tue, 04 Feb 2025) EllapsedTime: 15.5 seconds RetCode: 0 Status: OK PackageFile: decontam_1.26.0.tgz PackageFileSize: 759.1 KiB