Package: decontX Version: 1.4.0 Command: /home/biocbuild/R/R/bin/R CMD INSTALL decontX StartedAt: 2025-02-03 21:18:52 -0000 (Mon, 03 Feb 2025) EndedAt: 2025-02-03 21:22:55 -0000 (Mon, 03 Feb 2025) EllapsedTime: 242.5 seconds RetCode: 0 Status: OK