Package: decontX Version: 1.4.0 Command: /home/biocbuild/R/R/bin/R CMD check --install=check:decontX.install-out.txt --library=/home/biocbuild/R/R/site-library --no-vignettes --timings decontX_1.4.0.tar.gz StartedAt: 2025-02-04 06:14:41 -0000 (Tue, 04 Feb 2025) EndedAt: 2025-02-04 06:22:35 -0000 (Tue, 04 Feb 2025) EllapsedTime: 473.5 seconds RetCode: 0 Status: WARNINGS CheckDir: decontX.Rcheck Warnings: 1