Package: decontX Version: 1.4.0 Command: /home/biocbuild/R/R/bin/R CMD build --keep-empty-dirs --no-resave-data decontX StartedAt: 2025-02-03 23:02:55 -0000 (Mon, 03 Feb 2025) EndedAt: 2025-02-03 23:13:28 -0000 (Mon, 03 Feb 2025) EllapsedTime: 633.2 seconds RetCode: 0 Status: OK PackageFile: decontX_1.4.0.tar.gz PackageFileSize: 1.109 MiB