Package: decontX Version: 1.4.1 Command: F:\biocbuild\bbs-3.20-bioc\R\bin\R.exe CMD INSTALL decontX StartedAt: 2025-03-31 16:57:47 -0400 (Mon, 31 Mar 2025) EndedAt: 2025-03-31 17:04:16 -0400 (Mon, 31 Mar 2025) EllapsedTime: 389.1 seconds RetCode: 0 Status: OK