Package: decontX Version: 1.4.0 Command: /home/biocbuild/bbs-3.20-bioc/R/bin/R CMD INSTALL decontX StartedAt: 2025-01-27 17:02:05 -0500 (Mon, 27 Jan 2025) EndedAt: 2025-01-27 17:02:05 -0500 (Mon, 27 Jan 2025) EllapsedTime: 0.3 seconds RetCode: 1 Status: ERROR