Package: decontX Version: 1.4.1 Command: /home/biocbuild/bbs-3.20-bioc/R/bin/R CMD check --install=check:decontX.install-out.txt --library=/home/biocbuild/bbs-3.20-bioc/R/site-library --timings decontX_1.4.1.tar.gz StartedAt: 2025-03-31 21:24:11 -0400 (Mon, 31 Mar 2025) EndedAt: 2025-03-31 21:36:11 -0400 (Mon, 31 Mar 2025) EllapsedTime: 719.7 seconds RetCode: 0 Status: OK CheckDir: decontX.Rcheck Warnings: 0