Package: decompTumor2Sig Version: 2.22.0 Command: rm -rf decompTumor2Sig.buildbin-libdir && mkdir decompTumor2Sig.buildbin-libdir && F:\biocbuild\bbs-3.20-bioc\R\bin\R.exe CMD INSTALL --build --library=decompTumor2Sig.buildbin-libdir decompTumor2Sig_2.22.0.tar.gz StartedAt: 2025-02-11 08:17:32 -0500 (Tue, 11 Feb 2025) EndedAt: 2025-02-11 08:20:40 -0500 (Tue, 11 Feb 2025) EllapsedTime: 188.1 seconds RetCode: 0 Status: OK PackageFile: decompTumor2Sig_2.22.0.zip PackageFileSize: 2.435 MiB