Package: debrowser Version: 1.34.0 Command: rm -rf debrowser.buildbin-libdir && mkdir debrowser.buildbin-libdir && /Users/biocbuild/BBS/utils/build-universal.sh debrowser_1.34.0.tar.gz /Library/Frameworks/R.framework/Resources/bin/R debrowser.buildbin-libdir StartedAt: 2024-11-09 16:45:32 -0500 (Sat, 09 Nov 2024) EndedAt: 2024-11-09 16:45:52 -0500 (Sat, 09 Nov 2024) EllapsedTime: 20.3 seconds RetCode: 0 Status: OK PackageFile: debrowser_1.34.0.tgz PackageFileSize: 18.65 MiB