Package: debCAM Version: 1.24.0 Command: /home/biocbuild/R/R/bin/R CMD INSTALL debCAM StartedAt: 2025-02-03 21:03:22 -0000 (Mon, 03 Feb 2025) EndedAt: 2025-02-03 21:03:36 -0000 (Mon, 03 Feb 2025) EllapsedTime: 14.1 seconds RetCode: 0 Status: OK