Package: debCAM Version: 1.24.0 Command: chmod a+r debCAM -R && F:\biocbuild\bbs-3.20-bioc\R\bin\R.exe CMD build --keep-empty-dirs --no-resave-data debCAM StartedAt: 2025-01-27 18:20:26 -0500 (Mon, 27 Jan 2025) EndedAt: 2025-01-27 18:28:22 -0500 (Mon, 27 Jan 2025) EllapsedTime: 475.8 seconds RetCode: 0 Status: OK PackageFile: debCAM_1.24.0.tar.gz PackageFileSize: 3.398 MiB