Package: debCAM Version: 1.24.0 Command: /Library/Frameworks/R.framework/Resources/bin/R CMD build --keep-empty-dirs --no-resave-data debCAM StartedAt: 2025-01-27 18:19:59 -0500 (Mon, 27 Jan 2025) EndedAt: 2025-01-27 18:34:19 -0500 (Mon, 27 Jan 2025) EllapsedTime: 859.5 seconds RetCode: 0 Status: OK PackageFile: debCAM_1.24.0.tar.gz PackageFileSize: 3.73 MiB