Package: debCAM Version: 1.24.0 Command: /Library/Frameworks/R.framework/Resources/bin/R CMD INSTALL debCAM StartedAt: 2025-01-27 17:10:36 -0500 (Mon, 27 Jan 2025) EndedAt: 2025-01-27 17:10:47 -0500 (Mon, 27 Jan 2025) EllapsedTime: 11.1 seconds RetCode: 0 Status: OK