Package: dearseq Version: 1.18.0 Command: rm -rf dearseq.buildbin-libdir && mkdir dearseq.buildbin-libdir && F:\biocbuild\bbs-3.20-bioc\R\bin\R.exe CMD INSTALL --build --library=dearseq.buildbin-libdir dearseq_1.18.0.tar.gz StartedAt: 2025-03-28 08:14:08 -0400 (Fri, 28 Mar 2025) EndedAt: 2025-03-28 08:14:26 -0400 (Fri, 28 Mar 2025) EllapsedTime: 18.1 seconds RetCode: 0 Status: OK PackageFile: dearseq_1.18.0.zip PackageFileSize: 644.9 KiB