Package: dearseq Version: 1.18.0 Command: rm -rf dearseq.buildbin-libdir && mkdir dearseq.buildbin-libdir && /Users/biocbuild/BBS/utils/build-universal.sh dearseq_1.18.0.tar.gz /Library/Frameworks/R.framework/Resources/bin/R dearseq.buildbin-libdir StartedAt: 2025-03-28 12:34:19 -0400 (Fri, 28 Mar 2025) EndedAt: 2025-03-28 12:34:40 -0400 (Fri, 28 Mar 2025) EllapsedTime: 20.6 seconds RetCode: 0 Status: OK PackageFile: dearseq_1.18.0.tgz PackageFileSize: 899.5 KiB