Package: dearseq Version: 1.18.0 Command: /Library/Frameworks/R.framework/Resources/bin/R CMD INSTALL dearseq StartedAt: 2025-03-31 17:40:15 -0400 (Mon, 31 Mar 2025) EndedAt: 2025-03-31 17:40:26 -0400 (Mon, 31 Mar 2025) EllapsedTime: 10.6 seconds RetCode: 0 Status: OK