Package: ddPCRclust Version: 1.26.0 Command: /Library/Frameworks/R.framework/Resources/bin/R CMD check --install=check:ddPCRclust.install-out.txt --library=/Library/Frameworks/R.framework/Resources/library --no-vignettes --timings ddPCRclust_1.26.0.tar.gz StartedAt: 2025-01-28 02:30:15 -0500 (Tue, 28 Jan 2025) EndedAt: 2025-01-28 02:37:10 -0500 (Tue, 28 Jan 2025) EllapsedTime: 415.1 seconds RetCode: 0 Status: OK CheckDir: ddPCRclust.Rcheck Warnings: 0