Package: ddPCRclust Version: 1.26.0 Command: /Library/Frameworks/R.framework/Resources/bin/R CMD build --keep-empty-dirs --no-resave-data ddPCRclust StartedAt: 2025-01-27 18:19:24 -0500 (Mon, 27 Jan 2025) EndedAt: 2025-01-27 18:20:55 -0500 (Mon, 27 Jan 2025) EllapsedTime: 90.7 seconds RetCode: 0 Status: OK PackageFile: ddPCRclust_1.26.0.tar.gz PackageFileSize: 1.192 MiB