Package: ddPCRclust Version: 1.26.0 Command: /Library/Frameworks/R.framework/Resources/bin/R CMD INSTALL ddPCRclust StartedAt: 2025-03-31 18:03:08 -0400 (Mon, 31 Mar 2025) EndedAt: 2025-03-31 18:03:21 -0400 (Mon, 31 Mar 2025) EllapsedTime: 13.0 seconds RetCode: 0 Status: OK