Package: ddCt Version: 1.62.0 Command: /home/biocbuild/R/R/bin/R CMD INSTALL ddCt StartedAt: 2025-01-30 20:11:45 -0000 (Thu, 30 Jan 2025) EndedAt: 2025-01-30 20:12:21 -0000 (Thu, 30 Jan 2025) EllapsedTime: 35.5 seconds RetCode: 0 Status: OK