Package: ddCt Version: 1.62.0 Command: /home/biocbuild/R/R/bin/R CMD check --install=check:ddCt.install-out.txt --library=/home/biocbuild/R/R/site-library --no-vignettes --timings ddCt_1.62.0.tar.gz StartedAt: 2025-04-01 05:40:02 -0000 (Tue, 01 Apr 2025) EndedAt: 2025-04-01 05:40:38 -0000 (Tue, 01 Apr 2025) EllapsedTime: 36.0 seconds RetCode: 0 Status: WARNINGS CheckDir: ddCt.Rcheck Warnings: 1