Package: ddCt Version: 1.62.0 Command: /Library/Frameworks/R.framework/Resources/bin/R CMD check --install=check:ddCt.install-out.txt --library=/Library/Frameworks/R.framework/Resources/library --no-vignettes --timings ddCt_1.62.0.tar.gz StartedAt: 2025-04-01 01:42:45 -0400 (Tue, 01 Apr 2025) EndedAt: 2025-04-01 01:44:14 -0400 (Tue, 01 Apr 2025) EllapsedTime: 88.6 seconds RetCode: 0 Status: WARNINGS CheckDir: ddCt.Rcheck Warnings: 1