Package: dce Version: 1.14.0 Command: /home/biocbuild/bbs-3.20-bioc/R/bin/R CMD INSTALL dce StartedAt: 2024-11-19 17:00:45 -0500 (Tue, 19 Nov 2024) EndedAt: 2024-11-19 17:01:11 -0500 (Tue, 19 Nov 2024) EllapsedTime: 26.6 seconds RetCode: 0 Status: OK