Package: dce Version: 1.14.0 Command: /home/biocbuild/bbs-3.20-bioc/R/bin/R CMD INSTALL dce StartedAt: 2025-01-30 15:57:36 -0500 (Thu, 30 Jan 2025) EndedAt: 2025-01-30 15:58:10 -0500 (Thu, 30 Jan 2025) EllapsedTime: 34.0 seconds RetCode: 0 Status: OK